Workbook
Name その他: #REF!
Name 昆成酒: #REF!
Name 蒸留酒: #REF!
Name 醸造酒: #REF!
Name 大分類: #REF!

Sheet 申込書（提案書）
A1: 「Made in Japanで世界の生活に彩りを！海外販路開拓オンライン商談会」商談申込書兼提案書
A3: 提案書管理番号
A4: ニーズID
A5: 技術分野
A6: 提案したいニーズを選択してください。
A7: ニーズ発信企業
A8: 件名 | B8: =VLOOKUP(B7,Sheet1!E:F,2,0) -> #N/A
A9: 提案募集締切 | B9: 46029
A10: 概要
A11: 業務実施エリア
A12: スペック
A14: 貴社の企業情報を記入してください。
A15: 貴社名
A16: 部署・所属
A17: 役職
A18: 氏名
A19: 電話番号
A20: メールアドレス
A21: 所在地
A22: J-GoodTech URL
... A26: 依頼内容に対する提案
A27: 類似案件での実績 | R27: FALSE
A28: その他補足事項
A29: 提出日
A30: 提案ステータス
A32: 紹介信用金庫
A33: 同意事項・留意事項の確認
B34: =IF(R27=TRUE,"","※同意欄にチェックがありません") -> ※同意欄にチェックがありません

Sheet 写真添付シート
A1: 写真①
A3: 写真②（任意）

Sheet 提案付属資料添付シート
A1: 挿入タブ→テキスト→オブジェクト →ファイルから→添付したいファイルを選択 →アイコンで表示に☑→OKをクリック

Sheet 同意事項・留意事項
A1: 「Made in Japanで世界の生活に彩りを！海外販路開拓オンライン商談会」 への申込にあたっての同意事項および留意事項
A2: 〈同意事項〉
A3: 信金中央金庫（以下「信金中金」という。）が独立行政法人中小企業基盤整備機構（以下「中小機構」という。）と連携して主催、運営および管理を行う「オンライン商談会」（以下「本商談会」という。）への商談申込みにあたっては、以下の同意事項および免責事項をご確認・ご承諾いただき、「申込書（提案書）」シートの「同意する」ボタンをご選択ください。
A5: ・商談の申込みにあたり、申込者が提出した情報は、信金中金、中小機構および本サービスに付帯する作業を行う業者（以下「主催者および関係者」という。）に提供されます。
A7: ・信金中金は、商談申込書兼提案書に記載された個人情報について、下記イの利用目的の達成に必要な範囲で利用します。また、信金中金は、下記ロの方法で下記ハの第三者に提供し、下記ハの第三者において下記ニの利用目的の範囲内で利用されます。信金中金における個人情報の取扱いについては、個人情報保護宣言をご覧ください。個人情報保護宣言：https://www.shinkin-central-bank.jp/footer/privacypolicy.html
A8: イ. 信金中金における利用目的 申込み内容の確認、バイヤーの選考結果通知およびバイヤーとの商談に係るご連絡・ご案内等のため
A9: ロ. 提供方法 電子メール等
A10: ハ.個人情報を提供する第三者 中小機構および本サービスに付帯する作業を行う業者
A11: ニ. 第三者における利用目的 商談申込書兼提案書の英訳作業、バイヤーとの商談に係るご連絡・ご案内等のため
A12: ホ.第三者に提供される情報の内容 商談申込書兼提案書に記載された事項（氏名、電話番号およびメールアドレス等を含む）
A14: ・申込者は、記載した情報について、各自の責任において正確性および安全性等を確認し、変更があった場合はすみやかに主催者および関係者へ連絡をお願いします。
A16: ・申込み後のバイヤーとの商談の実施は、申込者が各自判断するものであり、商談会の申込みを以ってバイヤーとの商談の実施を確約するものではありません。
... A45: 以 上

Sheet Sheet1
A1: バイヤー担当 | B1: 管理番号 | C1: ニーズタイトル | D1: バイヤー企業名
A2: 中小機構 | B2: SJ01 | C2: 【カナダ】木製のインテリア雑貨、木製の文房具、日用品の調達【SJ01】 | D2: ナイスインターナショナルカナダコーポレーション | E2: ="【"&B2&"】"&D2 -> 【SJ01】ナイスインターナショナルカナダコーポレーション | F2: =C2 -> 【カナダ】木製のインテリア雑貨、木製の文房具、日用品の調達【SJ01】
A3: 中小機構 | B3: SJ02 | C3: 【日本】生活用品（化粧品、文房具、雑貨等）の調達【SJ02】 | D3: 株式会社デイリーアロマジャパン | E3: ="【"&B3&"】"&D3 -> 【SJ02】株式会社デイリーアロマジャパン | F3: =C3 -> 【日本】生活用品（化粧品、文房具、雑貨等）の調達【SJ02】
A4: 中小機構 | B4: SJ04 | C4: 【フランス】日本の食材、厨房用品、キッチン用品、日用品の調達【SJ04】 | D4: サール大松フランス | E4: ="【"&B4&"】"&D4 -> 【SJ04】サール大松フランス | F4: =C4 -> 【フランス】日本の食材、厨房用品、キッチン用品、日用品の調達【SJ04】
A5: 中小機構 | B5: SJ05 | C5: 【フランス】伝統工芸品、服飾関連品、キッチン用品、生活用品、装飾品等の調達【SJ05】 | D5: 今昔 | E5: ="【"&B5&"】"&D5 -> 【SJ05】今昔 | F5: =C5 -> 【フランス】伝統工芸品、服飾関連品、キッチン用品、生活用品、装飾品等の調達【SJ05】
A6: 中小機構 | B6: SJ06 | C6: 【インド】持続可能関連製品（自然由来の製品、リサイクル製品、再利用可能な製品等）の調達【SJ06】 | D6: サウラシュクト エナジーズ | E6: ="【"&B6&"】"&D6 -> 【SJ06】サウラシュクト エナジーズ | F6: =C6 -> 【インド】持続可能関連製品（自然由来の製品、リサイクル製品、再利用可能な製品等）の調達【SJ06】
A7: 中小機構 | B7: SJ07 | C7: 【日本】金属製品、調理器具、革製品の調達【SJ07】 | D7: VOGUE合同会社 | E7: ="【"&B7&"】"&D7 -> 【SJ07】VOGUE合同会社 | F7: =C7 -> 【日本】金属製品、調理器具、革製品の調達【SJ07】
A8: 中小機構 | B8: SJ08 | C8: 【フランス】食器、工芸品、金継ぎキットの調達【SJ08】 | D8: メゾン サトウ パリ | E8: ="【"&B8&"】"&D8 -> 【SJ08】メゾン サトウ パリ | F8: =C8 -> 【フランス】食器、工芸品、金継ぎキットの調達【SJ08】
A9: 中小機構 | B9: SJ09 | C9: 【日本】日本生まれのキャラクター商品の調達【SJ09】 | D9: 株式会社ワッツ | E9: ="【"&B9&"】"&D9 -> 【SJ09】株式会社ワッツ | F9: =C9 -> 【日本】日本生まれのキャラクター商品の調達【SJ09】
A10: 中小機構 | B10: SJ12 | C10: 【韓国】スキンケア化粧品、健康食品の調達【SJ12】 | D10: シーエーシートレーディング | E10: ="【"&B10&"】"&D10 -> 【SJ12】シーエーシートレーディング | F10: =C10 -> 【韓国】スキンケア化粧品、健康食品の調達【SJ12】
A11: 信金中金 | B11: J01 | C11: 【イギリス】伝統や技を受け継いで作られた日本の伝統工芸品、インテリア雑貨、小物等の調達【J01】 | D11: ki:ts | E11: ="【"&B11&"】"&D11 -> 【J01】ki:ts | F11: =C11 -> 【イギリス】伝統や技を受け継いで作られた日本の伝統工芸品、インテリア雑貨、小物等の調達【J01】
A12: 信金中金 | B12: J02 | C12: 【イギリス】日本の高品質な工芸品やデザイン商品の調達【J02】 | D12: Lives London Limited. | E12: ="【"&B12&"】"&D12 -> 【J02】Lives London Limited. | F12: =C12 -> 【イギリス】日本の高品質な工芸品やデザイン商品の調達【J02】
A13: 信金中金 | B13: J03 | C13: 【日本】生活雑貨、食品、衛生用品の調達【J03】 | D13: 愛宕商事株式会社 | E13: ="【"&B13&"】"&D13 -> 【J03】愛宕商事株式会社 | F13: =C13 -> 【日本】生活雑貨、食品、衛生用品の調達【J03】
... A17: 信金中金 | B17: J07 | C17: 【日本】調理器具、お茶関係の器具の調達【J07】 | D17: 株式会社ワイ・ヨット | E17: ="【"&B17&"】"&D17 -> 【J07】株式会社ワイ・ヨット | F17: =C17 -> 【日本】調理器具、お茶関係の器具の調達【J07】

Sheet Sheet2
A1: 提案書管理番号 | C1: Control number | D1: =IF(B1<>"",B1,"")
A2: ニーズID | B2: NE0000000011744 | C2: NEEDS ID | D2: =IF(B2<>"",B2,"") -> NE0000000011744
A3: 技術分野 | B3: 協業 | C3: Technical field | D3: =IF(B3<>"",B3,"") -> 協業
A4: 件名 | B4: =IF('申込書（提案書）'!B8<>"",'申込書（提案書）'!B8,"") -> #N/A | C4: Title | D4: =IF(B4<>"",B4,"") -> #N/A
A5: 提案募集期間 | B5: =IF('申込書（提案書）'!B9<>"",'申込書（提案書）'!B9,"") -> 46029 | C5: Offer period | D5: =IF(B5<>"",B5,"") -> 46029
A6: 概要 | C6: Needs Summery | D6: =IF(B6<>"",B6,"")
A7: 業務実施エリア | C7: Business Implementation Area | D7: =IF(B7<>"",B7,"")
A8: スペック | C8: Spec | D8: =IF(B8<>"",B8,"")
A9: ニーズ発信企業 | B9: =IF('申込書（提案書）'!B7<>"",'申込書（提案書）'!B7,"") | C9: Posted | D9: =IF(B9<>"",B9,"")
A10: 提案企業 | B10: =IF('申込書（提案書）'!B15<>"",'申込書（提案書）'!B15,"") | C10: Proposer | D10: =IF(B10<>"",B10,"")
A11: 部署・所属 | B11: =IF('申込書（提案書）'!B16<>"",'申込書（提案書）'!B16,"") | C11: Department | D11: =IF(B11<>"",B11,"")
A12: 役職 | B12: =IF('申込書（提案書）'!B17<>"",'申込書（提案書）'!B17,"") | C12: Title | D12: =IF(B12<>"",B12,"")
A13: 氏名 | B13: =IF('申込書（提案書）'!B18<>"",'申込書（提案書）'!B18,"") | C13: Person in charge | D13: =IF(B13<>"",B13,"")
A14: 電話番号 | B14: =IF('申込書（提案書）'!B19<>"",'申込書（提案書）'!B19,"") | C14: Tel | D14: =IF(B14<>"",B14,"")
A15: メールアドレス | B15: =IF('申込書（提案書）'!B20<>"",'申込書（提案書）'!B20,"") | C15: Email | D15: =IF(B15<>"",B15,"")
A16: 所在地 | B16: =IF('申込書（提案書）'!B21<>"",'申込書（提案書）'!B21,"") | C16: Address | D16: =IF(B16<>"",B16,"")
A17: J-GoodTech URL | B17: =IF('申込書（提案書）'!B22<>"",'申込書（提案書）'!B22,"") | C17: J-GoodTech URL | D17: =IF(B17<>"",B17,"")
A18: HomePage URL | B18: =IF('申込書（提案書）'!B23<>"",'申込書（提案書）'!B23,"") | C18: HomePage URL | D18: =IF(B18<>"",B18,"")
A19: 依頼内容に対する提案 | B19: =IF('申込書（提案書）'!B26<>"",'申込書（提案書）'!B26,"") | C19: Please enter your proposal | D19: =IF(B19<>"",B19,"")
A20: 類似案件での実績 | B20: =IF('申込書（提案書）'!B27<>"",'申込書（提案書）'!B27,"") | C20: Achievement of similar cases | D20: =IF(B20<>"",B20,"")
A21: その他補足事項 | B21: =IF('申込書（提案書）'!B28<>"",'申込書（提案書）'!B28,"") | C21: Additional remarks: | D21: =IF(B21<>"",B21,"")
A22: 提出日時 | B22: =IF('申込書（提案書）'!B29<>"",'申込書（提案書）'!B29,"") | C22: Proposal date | D22: =IF(B22<>"",B22,"")
A23: 提案ステータス | C23: Proposal status | D23: =IF(B23<>"",B23,"")
A25: 中小機構 J-GoodTech ジェグテック | C25: 中小機構 J-GoodTech ジェグテック
